BEGIN:VCALENDAR
VERSION:2.0
PRODID:-//OmniMagnetCalendar//EN
BEGIN:VEVENT
DTSTAMP:20190625T195740Z
STATUS:CONFIRMED
UID:hcaustin.clubs.harvard.edu447
DTSTART:20260604T223000Z
DTEND:20260605T003000Z
LOCATION:Remedy Bar, 360 Nueces St STE 30, Austin, TX, 78701,
SUMMARY:Harvard Club Happy Hour
DESCRIPTION:
BEGIN:VALARM
TRIGGER:-PT15M
ACTION:DISPLAY
END:VALARM
TRANSP:OPAQUE
END:VEVENT
END:VCALENDAR
