BEGIN:VCALENDAR
VERSION:2.0
PRODID:-//OmniMagnetCalendar//EN
BEGIN:VEVENT
DTSTAMP:20190625T195740Z
STATUS:CONFIRMED
UID:hcaustin.clubs.harvard.edu445
DTSTART:20260328T150000Z
DTEND:20260328T183000Z
LOCATION:Start at the Commons Ford Ranch Metropolitan Park, 614 N Commons Ford Rd, Austin, TX, 78733,
SUMMARY:Saturday Stroll for April 2026
DESCRIPTION:
BEGIN:VALARM
TRIGGER:-PT15M
ACTION:DISPLAY
END:VALARM
TRANSP:OPAQUE
END:VEVENT
END:VCALENDAR
