BEGIN:VCALENDAR
VERSION:2.0
PRODID:-//OmniMagnetCalendar//EN
BEGIN:VEVENT
DTSTAMP:20190625T195740Z
STATUS:CONFIRMED
UID:hcaustin.clubs.harvard.edu443
DTSTART:20260307T160000Z
DTEND:20260307T190000Z
LOCATION:Barton Creek Greenbelt Trailhead, Barton Creek Greenbelt Trail, Austin, TX, 78746,
SUMMARY:EVENT POSTPONED: Alumni Network of Harvard Women Forest Bathing Experience
DESCRIPTION:
BEGIN:VALARM
TRIGGER:-PT15M
ACTION:DISPLAY
END:VALARM
TRANSP:OPAQUE
END:VEVENT
END:VCALENDAR
