BEGIN:VCALENDAR
VERSION:2.0
PRODID:-//OmniMagnetCalendar//EN
BEGIN:VEVENT
DTSTAMP:20190625T195740Z
STATUS:CONFIRMED
UID:hcaustin.clubs.harvard.edu432
DTSTART:20260924T000000Z
DTEND:20260924T010000Z
LOCATION:Meanwhile Brewing, 3901 Promontory Point Dr, Austin, TX, 78744,
SUMMARY:Welcome to Your City & Taco Tuesday for September 2026
DESCRIPTION:
BEGIN:VALARM
TRIGGER:-PT15M
ACTION:DISPLAY
END:VALARM
TRANSP:OPAQUE
END:VEVENT
END:VCALENDAR
