BEGIN:VCALENDAR
VERSION:2.0
PRODID:-//OmniMagnetCalendar//EN
BEGIN:VEVENT
DTSTAMP:20190625T195740Z
STATUS:CONFIRMED
UID:hcaustin.clubs.harvard.edu430
DTSTART:20261125T010000Z
DTEND:20261125T020000Z
LOCATION:Taco Pegaso @ Fareground, 111 Congress Ave., Austin, TX, 78701,
SUMMARY:Taco Tuesday for November 2026
DESCRIPTION:
BEGIN:VALARM
TRIGGER:-PT15M
ACTION:DISPLAY
END:VALARM
TRANSP:OPAQUE
END:VEVENT
END:VCALENDAR
