BEGIN:VCALENDAR
VERSION:2.0
PRODID:-//OmniMagnetCalendar//EN
BEGIN:VEVENT
DTSTAMP:20190625T195740Z
STATUS:CONFIRMED
UID:hcaustin.clubs.harvard.edu402
DTSTART:20241207T180000Z
DTEND:20241207T203000Z
LOCATION:Lifeworks Austin, 835 N Pleasant Valley Rd, Austin, TX, 78702,
SUMMARY:Club Service Project: Help Young Adults through LifeWorks
DESCRIPTION:
BEGIN:VALARM
TRIGGER:-PT15M
ACTION:DISPLAY
END:VALARM
TRANSP:OPAQUE
END:VEVENT
END:VCALENDAR
