BEGIN:VCALENDAR
VERSION:2.0
PRODID:-//OmniMagnetCalendar//EN
BEGIN:VEVENT
DTSTAMP:20190625T195740Z
STATUS:CONFIRMED
UID:hcaustin.clubs.harvard.edu390
DTSTART:20240421T190000Z
DTEND:20240204T213000Z
LOCATION:Location will be provided to ticketholders, Austin, TX,
SUMMARY:Civic Engagement Happy Hour - Appraisals, Taxes, and How to Get Away with Murder
DESCRIPTION:
BEGIN:VALARM
TRIGGER:-PT15M
ACTION:DISPLAY
END:VALARM
TRANSP:OPAQUE
END:VEVENT
END:VCALENDAR
