BEGIN:VCALENDAR
VERSION:2.0
PRODID:-//OmniMagnetCalendar//EN
BEGIN:VEVENT
DTSTAMP:20190625T195740Z
STATUS:CONFIRMED
UID:hcaustin.clubs.harvard.edu388
DTSTART:20240423T230000Z
DTEND:20240412T223000Z
LOCATION:Foundation Communities Bldg, 3000 S I-35 Frontage Rd, Ste #180, Austin, TX, 78704,
SUMMARY:Volunteers Needed to Support Dress for Success Austin
DESCRIPTION:
BEGIN:VALARM
TRIGGER:-PT15M
ACTION:DISPLAY
END:VALARM
TRANSP:OPAQUE
END:VEVENT
END:VCALENDAR
