BEGIN:VCALENDAR
VERSION:2.0
PRODID:-//OmniMagnetCalendar//EN
BEGIN:VEVENT
DTSTAMP:20190625T195740Z
STATUS:CONFIRMED
UID:hcaustin.clubs.harvard.edu387
DTSTART:20240414T190000Z
DTEND:20240327T010000Z
LOCATION:Moonflower Hill (formerly Hacienda Del Lago Event Center), 14000 FM 2769, #9, 300 Colorado St Suite 2400, Volente, TX, 78641,
SUMMARY:Family Fun Day with HBS, Harvard, and Rice!
DESCRIPTION:
BEGIN:VALARM
TRIGGER:-PT15M
ACTION:DISPLAY
END:VALARM
TRANSP:OPAQUE
END:VEVENT
END:VCALENDAR
