BEGIN:VCALENDAR
VERSION:2.0
PRODID:-//OmniMagnetCalendar//EN
BEGIN:VEVENT
DTSTAMP:20190625T195740Z
STATUS:CONFIRMED
UID:hcaustin.clubs.harvard.edu386
DTSTART:20240314T110000Z
DTEND:20240315T020000Z
LOCATION:Zilker Brewing Company, 1701 E. 6th Street, Austin, TX, 78702,
SUMMARY:Ivy+ SXSW Happy Hour
DESCRIPTION:
BEGIN:VALARM
TRIGGER:-PT15M
ACTION:DISPLAY
END:VALARM
TRANSP:OPAQUE
END:VEVENT
END:VCALENDAR
