BEGIN:VCALENDAR
VERSION:2.0
PRODID:-//OmniMagnetCalendar//EN
BEGIN:VEVENT
DTSTAMP:20190625T195740Z
STATUS:CONFIRMED
UID:hcaustin.clubs.harvard.edu385
DTSTART:20240326T230000Z
DTEND:20240327T010000Z
LOCATION:Latham & Watkins LLP, 300 Colorado St Suite 2400, Austin, TX, 78701,
SUMMARY:Thinking Outside the Box - Securing Funding in a Challenging Environment
DESCRIPTION:
BEGIN:VALARM
TRIGGER:-PT15M
ACTION:DISPLAY
END:VALARM
TRANSP:OPAQUE
END:VEVENT
END:VCALENDAR
