BEGIN:VCALENDAR
VERSION:2.0
PRODID:-//OmniMagnetCalendar//EN
BEGIN:VEVENT
DTSTAMP:20190625T195740Z
STATUS:CONFIRMED
UID:hcaustin.clubs.harvard.edu384
DTSTART:20240504T144500Z
DTEND:20240504T170000Z
LOCATION:Xtreme Paintball, 7415 Burleson Manor Road, Manor, TX, 78653,
SUMMARY:Paintball with the Yale Club of Austin
DESCRIPTION:
BEGIN:VALARM
TRIGGER:-PT15M
ACTION:DISPLAY
END:VALARM
TRANSP:OPAQUE
END:VEVENT
END:VCALENDAR
