BEGIN:VCALENDAR
VERSION:2.0
PRODID:-//OmniMagnetCalendar//EN
BEGIN:VEVENT
DTSTAMP:20190625T195740Z
STATUS:CONFIRMED
UID:hcaustin.clubs.harvard.edu383
DTSTART:20240412T210000Z
DTEND:20240412T223000Z
LOCATION:AVANCE Austin, 4900 Gonzales Street, Austin, TX, 78702,
SUMMARY:Harvard Club Service Project: Supporting AVANCE-Austin for Early Childhood Education
DESCRIPTION:
BEGIN:VALARM
TRIGGER:-PT15M
ACTION:DISPLAY
END:VALARM
TRANSP:OPAQUE
END:VEVENT
END:VCALENDAR
