BEGIN:VCALENDAR
VERSION:2.0
PRODID:-//OmniMagnetCalendar//EN
BEGIN:VEVENT
DTSTAMP:20190625T195740Z
STATUS:CONFIRMED
UID:hcaustin.clubs.harvard.edu381
DTSTART:20240310T170000Z
DTEND:20240310T183000Z
LOCATION:Austin History Center | Austin Public Library, Austin History Center | Austin Public Library  810 Guadalupe Street , Austin, TX, 78701,
SUMMARY:Telling the Story of Space with NASA's Stephanie L. Smith AB ‘98, Emmy-Award Winner
DESCRIPTION:
BEGIN:VALARM
TRIGGER:-PT15M
ACTION:DISPLAY
END:VALARM
TRANSP:OPAQUE
END:VEVENT
END:VCALENDAR
