BEGIN:VCALENDAR
VERSION:2.0
PRODID:-//OmniMagnetCalendar//EN
BEGIN:VEVENT
DTSTAMP:20190625T195740Z
STATUS:CONFIRMED
UID:hcaustin.clubs.harvard.edu377
DTSTART:20240414T180000Z
DTEND:20240414T180000Z
LOCATION:Location will be provided to ticketholders, Austin, TX,
SUMMARY:Harvard & Berkeley Host a Special Edition Arts Brunch!
DESCRIPTION:
BEGIN:VALARM
TRIGGER:-PT15M
ACTION:DISPLAY
END:VALARM
TRANSP:OPAQUE
END:VEVENT
END:VCALENDAR
