BEGIN:VCALENDAR
VERSION:2.0
PRODID:-//OmniMagnetCalendar//EN
BEGIN:VEVENT
DTSTAMP:20190625T195740Z
STATUS:CONFIRMED
UID:hcaustin.clubs.harvard.edu376
DTSTART:20240310T190000Z
DTEND:20240310T220000Z
LOCATION:Ember Kitchen, 800 West Cesar Chavez Street #Ste PP110 , Austin, TX, 78701,
SUMMARY:Harvard @ SXSW 2024
DESCRIPTION:
BEGIN:VALARM
TRIGGER:-PT15M
ACTION:DISPLAY
END:VALARM
TRANSP:OPAQUE
END:VEVENT
END:VCALENDAR
