BEGIN:VCALENDAR
VERSION:2.0
PRODID:-//OmniMagnetCalendar//EN
BEGIN:VEVENT
DTSTAMP:20190625T195740Z
STATUS:CONFIRMED
UID:hcaustin.clubs.harvard.edu366
DTSTART:20240301T003000Z
DTEND:20240301T020000Z
LOCATION:North Village Branch, Austin Public Library, 2505 Steck Avenue, Austin, TX, 78757,
SUMMARY:Gut Feelings: Answering Your Digestive Dilemmas
DESCRIPTION:
BEGIN:VALARM
TRIGGER:-PT15M
ACTION:DISPLAY
END:VALARM
TRANSP:OPAQUE
END:VEVENT
END:VCALENDAR
