BEGIN:VCALENDAR
VERSION:2.0
PRODID:-//OmniMagnetCalendar//EN
BEGIN:VEVENT
DTSTAMP:20190625T195740Z
STATUS:CONFIRMED
UID:hcaustin.clubs.harvard.edu363
DTSTART:20240204T190000Z
DTEND:20240204T213000Z
LOCATION:Location will be provided to ticketholders, Austin, TX,
SUMMARY:Harvard & Berkeley Host A Civic Engagement Brunch
DESCRIPTION:
BEGIN:VALARM
TRIGGER:-PT15M
ACTION:DISPLAY
END:VALARM
TRANSP:OPAQUE
END:VEVENT
END:VCALENDAR
