BEGIN:VCALENDAR
VERSION:2.0
PRODID:-//OmniMagnetCalendar//EN
BEGIN:VEVENT
DTSTAMP:20190625T195740Z
STATUS:CONFIRMED
UID:hcaustin.clubs.harvard.edu362
DTSTART:20240201T223000Z
DTEND:20240201T233000Z
LOCATION:Virtual Event,
SUMMARY:Harvard Jewish Alumni Alliance Conversation with Harvard President Emeritus Larry Summers, Ph.D. ‘
DESCRIPTION:
BEGIN:VALARM
TRIGGER:-PT15M
ACTION:DISPLAY
END:VALARM
TRANSP:OPAQUE
END:VEVENT
END:VCALENDAR
