BEGIN:VCALENDAR
VERSION:2.0
PRODID:-//OmniMagnetCalendar//EN
BEGIN:VEVENT
DTSTAMP:20190625T195740Z
STATUS:CONFIRMED
UID:hcaustin.clubs.harvard.edu360
DTSTART:20240217T200000Z
DTEND:20240217T213000Z
LOCATION:McKinney Falls State Park, 5808 McKinney Falls Pkwy, Austin, TX, 78744,
SUMMARY:Saturday Stroll for February
DESCRIPTION:
BEGIN:VALARM
TRIGGER:-PT15M
ACTION:DISPLAY
END:VALARM
TRANSP:OPAQUE
END:VEVENT
END:VCALENDAR
