BEGIN:VCALENDAR
VERSION:2.0
PRODID:-//OmniMagnetCalendar//EN
BEGIN:VEVENT
DTSTAMP:20190625T195740Z
STATUS:CONFIRMED
UID:hcaustin.clubs.harvard.edu358
DTSTART:20240320T000000Z
DTEND:20240320T000000Z
LOCATION:Masa y Más, 1817 S Lamar Blvd, Austin, TX, 78704,
SUMMARY:Taco Tuesday for March
DESCRIPTION:
BEGIN:VALARM
TRIGGER:-PT15M
ACTION:DISPLAY
END:VALARM
TRANSP:OPAQUE
END:VEVENT
END:VCALENDAR
