BEGIN:VCALENDAR
VERSION:2.0
PRODID:-//OmniMagnetCalendar//EN
BEGIN:VEVENT
DTSTAMP:20190625T195740Z
STATUS:CONFIRMED
UID:hcaustin.clubs.harvard.edu355
DTSTART:20240218T210000Z
DTEND:20240218T223000Z
LOCATION:Crum Auditorium, 300 West Martin Luther King Junior Boulevard, Austin, TX, 78701,
SUMMARY:Connectivity and Innovation: A Talk with Internet Pioneer Bob Metcalfe, SM ‘70, PhD ‘73, Turing
DESCRIPTION:
BEGIN:VALARM
TRIGGER:-PT15M
ACTION:DISPLAY
END:VALARM
TRANSP:OPAQUE
END:VEVENT
END:VCALENDAR
