BEGIN:VCALENDAR
VERSION:2.0
PRODID:-//OmniMagnetCalendar//EN
BEGIN:VEVENT
DTSTAMP:20190625T195740Z
STATUS:CONFIRMED
UID:hcaustin.clubs.harvard.edu350
DTSTART:20231206T010000Z
DTEND:20231206T010000Z
LOCATION:Cosmic Coffee + Beer Garden, 121 Pickle Rd., Austin, TX, 78704,
SUMMARY:Taco Tuesday for December
DESCRIPTION:
BEGIN:VALARM
TRIGGER:-PT15M
ACTION:DISPLAY
END:VALARM
TRANSP:OPAQUE
END:VEVENT
END:VCALENDAR
