BEGIN:VCALENDAR
VERSION:2.0
PRODID:-//OmniMagnetCalendar//EN
BEGIN:VEVENT
DTSTAMP:20190625T195740Z
STATUS:CONFIRMED
UID:hcaustin.clubs.harvard.edu349
DTSTART:20231118T163000Z
DTEND:20231118T183000Z
LOCATION:Meet at Taco Deli, 1500 Spyglass Dr, Austin, TX, 78746,
SUMMARY:Saturday Stroll for November
DESCRIPTION:
BEGIN:VALARM
TRIGGER:-PT15M
ACTION:DISPLAY
END:VALARM
TRANSP:OPAQUE
END:VEVENT
END:VCALENDAR
