BEGIN:VCALENDAR
VERSION:2.0
PRODID:-//OmniMagnetCalendar//EN
BEGIN:VEVENT
DTSTAMP:20190625T195740Z
STATUS:CONFIRMED
UID:hcaustin.clubs.harvard.edu348
DTSTART:20231101T163000Z
DTEND:20231101T174500Z
LOCATION:Industrious Austin, 98 San Jacinto Blvd, 4th floor, Austin, TX, 78701,
SUMMARY:Lunch Panel on the Austin Startup Experience with HBS Club
DESCRIPTION:
BEGIN:VALARM
TRIGGER:-PT15M
ACTION:DISPLAY
END:VALARM
TRANSP:OPAQUE
END:VEVENT
END:VCALENDAR
