BEGIN:VCALENDAR
VERSION:2.0
PRODID:-//OmniMagnetCalendar//EN
BEGIN:VEVENT
DTSTAMP:20190625T195740Z
STATUS:CONFIRMED
UID:hcaustin.clubs.harvard.edu346
DTSTART:20231108T010000Z
DTEND:20231108T020000Z
LOCATION:Salsa Limón, 3001 Guadalupe St, Austin, TX, 78705,
SUMMARY:Taco Tuesday for November
DESCRIPTION:
BEGIN:VALARM
TRIGGER:-PT15M
ACTION:DISPLAY
END:VALARM
TRANSP:OPAQUE
END:VEVENT
END:VCALENDAR
