BEGIN:VCALENDAR
VERSION:2.0
PRODID:-//OmniMagnetCalendar//EN
BEGIN:VEVENT
DTSTAMP:20190625T195740Z
STATUS:CONFIRMED
UID:hcaustin.clubs.harvard.edu341
DTSTART:20231013T170000Z
DTEND:20231013T181500Z
LOCATION:Virtual, 110 East 9th Street, Austin, TX, 78701,
SUMMARY:HBS Austin Women's Circles: a Virtual Talk about Women's Health!
DESCRIPTION:
BEGIN:VALARM
TRIGGER:-PT15M
ACTION:DISPLAY
END:VALARM
TRANSP:OPAQUE
END:VEVENT
END:VCALENDAR
