BEGIN:VCALENDAR
VERSION:2.0
PRODID:-//OmniMagnetCalendar//EN
BEGIN:VEVENT
DTSTAMP:20190625T195740Z
STATUS:CONFIRMED
UID:hcaustin.clubs.harvard.edu336
DTSTART:20231116T233000Z
DTEND:20231117T030000Z
LOCATION:East Austin Comedy Club, 1303 E 4th St, Austin, TX, 78701,
SUMMARY:East Austin Comedy Club Buyout
DESCRIPTION:
BEGIN:VALARM
TRIGGER:-PT15M
ACTION:DISPLAY
END:VALARM
TRANSP:OPAQUE
END:VEVENT
END:VCALENDAR
