BEGIN:VCALENDAR
VERSION:2.0
PRODID:-//OmniMagnetCalendar//EN
BEGIN:VEVENT
DTSTAMP:20190625T195740Z
STATUS:CONFIRMED
UID:hcaustin.clubs.harvard.edu335
DTSTART:20230719T000000Z
DTEND:20230719T000000Z
LOCATION:Papalote Taco House, 2803 S Lamar Blvd, Austin, TX, 78704,
SUMMARY:Taco Tuesday @ Papalote Taco House
DESCRIPTION:
BEGIN:VALARM
TRIGGER:-PT15M
ACTION:DISPLAY
END:VALARM
TRANSP:OPAQUE
END:VEVENT
END:VCALENDAR
