BEGIN:VCALENDAR
VERSION:2.0
PRODID:-//OmniMagnetCalendar//EN
BEGIN:VEVENT
DTSTAMP:20190625T195740Z
STATUS:CONFIRMED
UID:hcaustin.clubs.harvard.edu333
DTSTART:20230426T000000Z
DTEND:20230426T010000Z
LOCATION:East Side King, 2310 S Lamar Blvd c101, Austin, TX, 78704,
SUMMARY:Taco Tuesday @ East Side King
DESCRIPTION:
BEGIN:VALARM
TRIGGER:-PT15M
ACTION:DISPLAY
END:VALARM
TRANSP:OPAQUE
END:VEVENT
END:VCALENDAR
