BEGIN:VCALENDAR
VERSION:2.0
PRODID:-//OmniMagnetCalendar//EN
BEGIN:VEVENT
DTSTAMP:20190625T195740Z
STATUS:CONFIRMED
UID:hcaustin.clubs.harvard.edu329
DTSTART:20230123T233000Z
DTEND:20230124T010000Z
LOCATION:Stephen F's Bar & Terrace, 701 Congress Ave., Austin, TX, 78701, USA,
SUMMARY:Pre-Concert Cocktails before Pink Martini with China Forbes
DESCRIPTION:
BEGIN:VALARM
TRIGGER:-PT15M
ACTION:DISPLAY
END:VALARM
TRANSP:OPAQUE
END:VEVENT
END:VCALENDAR
