BEGIN:VCALENDAR
VERSION:2.0
PRODID:-//OmniMagnetCalendar//EN
BEGIN:VEVENT
DTSTAMP:20190625T195740Z
STATUS:CONFIRMED
UID:hcaustin.clubs.harvard.edu323
DTSTART:20220515T163000Z
DTEND:20220515T163000Z
LOCATION:The Austin Club, 110 E 9th Street, Austin, TX, 78701, USA,
SUMMARY:May 15 Harvard Club Sunday Brunch (Families Welcome!)
DESCRIPTION:
BEGIN:VALARM
TRIGGER:-PT15M
ACTION:DISPLAY
END:VALARM
TRANSP:OPAQUE
END:VEVENT
END:VCALENDAR
