BEGIN:VCALENDAR
VERSION:2.0
PRODID:-//OmniMagnetCalendar//EN
BEGIN:VEVENT
DTSTAMP:20190625T195740Z
STATUS:CONFIRMED
UID:hcaustin.clubs.harvard.edu322
DTSTART:20220611T210000Z
DTEND:20220612T000000Z
LOCATION:Curl Austin, 9402 United Drive, Austin, TX, 78758, USA,
SUMMARY:Learn to Curl & Brewery Social – June 11
DESCRIPTION:
BEGIN:VALARM
TRIGGER:-PT15M
ACTION:DISPLAY
END:VALARM
TRANSP:OPAQUE
END:VEVENT
END:VCALENDAR
