BEGIN:VCALENDAR
VERSION:2.0
PRODID:-//OmniMagnetCalendar//EN
BEGIN:VEVENT
DTSTAMP:20190625T195740Z
STATUS:CONFIRMED
UID:hcaustin.clubs.harvard.edu321
DTSTART:20220518T000000Z
DTEND:20220518T020000Z
LOCATION:Veracruz (at Radio Coffee), 4208 Menchaca Rd, Austin, TX, 78704, USA,
SUMMARY:Taco Tuesdays - May 17
DESCRIPTION:
BEGIN:VALARM
TRIGGER:-PT15M
ACTION:DISPLAY
END:VALARM
TRANSP:OPAQUE
END:VEVENT
END:VCALENDAR
