BEGIN:VCALENDAR
VERSION:2.0
PRODID:-//OmniMagnetCalendar//EN
BEGIN:VEVENT
DTSTAMP:20190625T195740Z
STATUS:CONFIRMED
UID:hcaustin.clubs.harvard.edu320
DTSTART:20220427T000000Z
DTEND:20220427T000000Z
LOCATION:Meanwhile Brewing, 3901 Promontory Point Dr, Austin, TX, 78744, USA,
SUMMARY:Taco Tuesdays - April 26!
DESCRIPTION:
BEGIN:VALARM
TRIGGER:-PT15M
ACTION:DISPLAY
END:VALARM
TRANSP:OPAQUE
END:VEVENT
END:VCALENDAR
