BEGIN:VCALENDAR
VERSION:2.0
PRODID:-//OmniMagnetCalendar//EN
BEGIN:VEVENT
DTSTAMP:20190625T195740Z
STATUS:CONFIRMED
UID:hcaustin.clubs.harvard.edu319
DTSTART:20220406T000000Z
DTEND:20220406T020000Z
LOCATION:Discada, 1319 Rosewood Ave, Austin, TX, 78702, USA,
SUMMARY:Taco Tuesdays - April 5!
DESCRIPTION:
BEGIN:VALARM
TRIGGER:-PT15M
ACTION:DISPLAY
END:VALARM
TRANSP:OPAQUE
END:VEVENT
END:VCALENDAR
