BEGIN:VCALENDAR
VERSION:2.0
PRODID:-//OmniMagnetCalendar//EN
BEGIN:VEVENT
DTSTAMP:20190625T195740Z
STATUS:CONFIRMED
UID:hcaustin.clubs.harvard.edu315
DTSTART:20220406T230000Z
DTEND:20220407T000000Z
LOCATION:Free Virtual Event (Registration Required), Austin,
SUMMARY:The Galileo Project: In Search for Technological Interstellar Objects with Professor Avi Loeb
DESCRIPTION:
BEGIN:VALARM
TRIGGER:-PT15M
ACTION:DISPLAY
END:VALARM
TRANSP:OPAQUE
END:VEVENT
END:VCALENDAR
