BEGIN:VCALENDAR
VERSION:2.0
PRODID:-//OmniMagnetCalendar//EN
BEGIN:VEVENT
DTSTAMP:20190625T195740Z
STATUS:CONFIRMED
UID:hcaustin.clubs.harvard.edu313
DTSTART:20220310T010000Z
DTEND:20220310T020000Z
LOCATION:Virtual, 110 E 9th St, Austin, TX, 78701,
SUMMARY:Beto O’Rourke and America’s Most Influential Hacking Group with Joseph Menn ‘87, Author of Cul
DESCRIPTION:
BEGIN:VALARM
TRIGGER:-PT15M
ACTION:DISPLAY
END:VALARM
TRANSP:OPAQUE
END:VEVENT
END:VCALENDAR
