BEGIN:VCALENDAR
VERSION:2.0
PRODID:-//OmniMagnetCalendar//EN
BEGIN:VEVENT
DTSTAMP:20190625T195740Z
STATUS:CONFIRMED
UID:hcaustin.clubs.harvard.edu312
DTSTART:20220109T173000Z
DTEND:20220109T190000Z
LOCATION:The Austin Club, 110 E 9th St, Austin, TX, 78701,
SUMMARY:Harvard Club Sunday Brunch (Families Welcome!)
DESCRIPTION:
BEGIN:VALARM
TRIGGER:-PT15M
ACTION:DISPLAY
END:VALARM
TRANSP:OPAQUE
END:VEVENT
END:VCALENDAR
