BEGIN:VCALENDAR
VERSION:2.0
PRODID:-//OmniMagnetCalendar//EN
BEGIN:VEVENT
DTSTAMP:20190625T195740Z
STATUS:CONFIRMED
UID:hcaustin.clubs.harvard.edu310
DTSTART:20211218T000000Z
DTEND:20211218T030000Z
LOCATION:Honest Mary’s, 9828 Great Hills Trail, Suite 300, Austin, TX, 78759,
SUMMARY:Austin Casual Dinner at Honest Mary’s
DESCRIPTION:
BEGIN:VALARM
TRIGGER:-PT15M
ACTION:DISPLAY
END:VALARM
TRANSP:OPAQUE
END:VEVENT
END:VCALENDAR
