BEGIN:VCALENDAR
VERSION:2.0
PRODID:-//OmniMagnetCalendar//EN
BEGIN:VEVENT
DTSTAMP:20190625T195740Z
STATUS:CONFIRMED
UID:hcaustin.clubs.harvard.edu306
DTSTART:20211120T170000Z
DTEND:20211121T030000Z
LOCATION:The Park South Lamar, 4024 South Lamar Boulevard, Austin, TX, 78704, USA,
SUMMARY:One Day -- Two Historic Football Games!
DESCRIPTION:
BEGIN:VALARM
TRIGGER:-PT15M
ACTION:DISPLAY
END:VALARM
TRANSP:OPAQUE
END:VEVENT
END:VCALENDAR
