BEGIN:VCALENDAR
VERSION:2.0
PRODID:-//OmniMagnetCalendar//EN
BEGIN:VEVENT
DTSTAMP:20190625T195740Z
STATUS:CONFIRMED
UID:hcaustin.clubs.harvard.edu300
DTSTART:20210504T230000Z
DTEND:20210505T000000Z
LOCATION:Zoom ,
SUMMARY:A Student’s History of Harvard College with Zachary Nowak, PhD.
DESCRIPTION:May 4, 2021 | 6:00PM CST | Zoom
BEGIN:VALARM
TRIGGER:-PT15M
ACTION:DISPLAY
END:VALARM
TRANSP:OPAQUE
END:VEVENT
END:VCALENDAR
