BEGIN:VCALENDAR
VERSION:2.0
PRODID:-//OmniMagnetCalendar//EN
BEGIN:VEVENT
DTSTAMP:20190625T195740Z
STATUS:CONFIRMED
UID:hcaustin.clubs.harvard.edu299
DTSTART:20210319T170000Z
DTEND:20210319T180000Z
LOCATION:Zoom - Contact miri@johnmiri.net for details,
SUMMARY:Executive Leadership Shared Interest Group (SIG) Meeting
DESCRIPTION:YOUR ORGANIZATION'S PURPOSE IN CHANGING TIMES
BEGIN:VALARM
TRIGGER:-PT15M
ACTION:DISPLAY
END:VALARM
TRANSP:OPAQUE
END:VEVENT
END:VCALENDAR
