BEGIN:VCALENDAR
VERSION:2.0
PRODID:-//OmniMagnetCalendar//EN
BEGIN:VEVENT
DTSTAMP:20190625T195740Z
STATUS:CONFIRMED
UID:hcaustin.clubs.harvard.edu298
DTSTART:20200929T180000Z
DTEND:20200929T190000Z
LOCATION:Virtual Meeting,
SUMMARY:Dr. Vivek Murthy in Conversation with Sewell Chan
DESCRIPTION:
BEGIN:VALARM
TRIGGER:-PT15M
ACTION:DISPLAY
END:VALARM
TRANSP:OPAQUE
END:VEVENT
END:VCALENDAR
