BEGIN:VCALENDAR
VERSION:2.0
PRODID:-//OmniMagnetCalendar//EN
BEGIN:VEVENT
DTSTAMP:20190625T195740Z
STATUS:CONFIRMED
UID:hcaustin.clubs.harvard.edu290
DTSTART:20190519T120000Z
DTEND:20190519T140000Z
LOCATION:The Bowie, 311 Bowie Street, Clubhouse, 31st Floor, Austin,
SUMMARY:Wine Tasting: Cabernet Sauvignon
DESCRIPTION:
BEGIN:VALARM
TRIGGER:-PT15M
ACTION:DISPLAY
END:VALARM
TRANSP:OPAQUE
END:VEVENT
END:VCALENDAR
