BEGIN:VCALENDAR
VERSION:2.0
PRODID:-//OmniMagnetCalendar//EN
BEGIN:VEVENT
DTSTAMP:20190625T195740Z
STATUS:CONFIRMED
UID:hcaustin.clubs.harvard.edu289
DTSTART:20190511T090000Z
DTEND:20190511T130000Z
LOCATION:Asian American Resource Center, 8401 Cameron Rd., Austin,
SUMMARY:CelebrASIA Austin 2019
DESCRIPTION:
BEGIN:VALARM
TRIGGER:-PT15M
ACTION:DISPLAY
END:VALARM
TRANSP:OPAQUE
END:VEVENT
END:VCALENDAR
