BEGIN:VCALENDAR
VERSION:2.0
PRODID:-//OmniMagnetCalendar//EN
BEGIN:VEVENT
DTSTAMP:20190625T195740Z
STATUS:CONFIRMED
UID:hcaustin.clubs.harvard.edu288
DTSTART:20190425T160000Z
DTEND:20190425T180000Z
LOCATION:DuMont’s Down Low, 214 W 4th St Suite B, Austin,
SUMMARY:Ivy+ Happy Hour @ DuMont’s
DESCRIPTION:
BEGIN:VALARM
TRIGGER:-PT15M
ACTION:DISPLAY
END:VALARM
TRANSP:OPAQUE
END:VEVENT
END:VCALENDAR
