BEGIN:VCALENDAR
VERSION:2.0
PRODID:-//OmniMagnetCalendar//EN
BEGIN:VEVENT
DTSTAMP:20190625T195740Z
STATUS:CONFIRMED
UID:hcaustin.clubs.harvard.edu278
DTSTART:20180917T160000Z
DTEND:20180917T190000Z
LOCATION:Capital Factory, 701 Brazos St, Austin,
SUMMARY:All Ivy Panel on the State of the Video Game Industry
DESCRIPTION:
BEGIN:VALARM
TRIGGER:-PT15M
ACTION:DISPLAY
END:VALARM
TRANSP:OPAQUE
END:VEVENT
END:VCALENDAR
