BEGIN:VCALENDAR
VERSION:2.0
PRODID:-//OmniMagnetCalendar//EN
BEGIN:VEVENT
DTSTAMP:20190625T195740Z
STATUS:CONFIRMED
UID:hcaustin.clubs.harvard.edu258
DTSTART:20180227T170000Z
DTEND:20180227T193000Z
LOCATION:Google Offices, 500 W 2nd St, Austin, TX,
SUMMARY:Ivy+ Networking Event & LinkedIn Workshop @ Google
DESCRIPTION:
BEGIN:VALARM
TRIGGER:-PT15M
ACTION:DISPLAY
END:VALARM
TRANSP:OPAQUE
END:VEVENT
END:VCALENDAR
