BEGIN:VCALENDAR
VERSION:2.0
PRODID:-//OmniMagnetCalendar//EN
BEGIN:VEVENT
DTSTAMP:20190625T195740Z
STATUS:CONFIRMED
UID:hcaustin.clubs.harvard.edu257
DTSTART:20180213T164500Z
DTEND:20180213T190000Z
LOCATION:Austin Ale House, 301 West 6th Street, Austin,
SUMMARY:UPenn's first networking Happy Hour +Speaker event of 2018!
DESCRIPTION:
BEGIN:VALARM
TRIGGER:-PT15M
ACTION:DISPLAY
END:VALARM
TRANSP:OPAQUE
END:VEVENT
END:VCALENDAR
